BEGIN:VCALENDAR
VERSION:2.0
PRODID:-//Flicker - ECPv6.15.16//NONSGML v1.0//EN
CALSCALE:GREGORIAN
METHOD:PUBLISH
X-WR-CALNAME:Flicker
X-ORIGINAL-URL:https://vickiyohe123fakenoSEO.lwccportal.com
X-WR-CALDESC:Events for Flicker
REFRESH-INTERVAL;VALUE=DURATION:PT1H
X-Robots-Tag:noindex
X-PUBLISHED-TTL:PT1H
BEGIN:VTIMEZONE
TZID:UTC
BEGIN:STANDARD
TZOFFSETFROM:+0000
TZOFFSETTO:+0000
TZNAME:UTC
DTSTART:20250101T000000
END:STANDARD
END:VTIMEZONE
BEGIN:VEVENT
DTSTART;TZID=UTC:20260430T080000
DTEND;TZID=UTC:20260430T170000
DTSTAMP:20260422T223203
CREATED:20260218T233352Z
LAST-MODIFIED:20260219T161746Z
UID:2469-1777536000-1777568400@vickiyohe123fakenoSEO.lwccportal.com
SUMMARY:Test Event 2
DESCRIPTION:This is a Test — for 2
URL:https://vickiyohe123fakenoSEO.lwccportal.com/tour/test-event-2/
CATEGORIES:test cata
ORGANIZER;CN="Test Org Name":MAILTO:Test Org Email
END:VEVENT
END:VCALENDAR